Workbook
Name rrr: 'прил 1'!$C$3:$D$3
Name п1: 'прил 1'!$C$3
Name п1чистВсеДанные: 'прил 1'!$I$24:$R$25,'прил 1'!$I$28:$R$35,'прил 1'!$I$40:$R$52,'прил 1'!$I$61:$R$68,'прил 1'!$I$71:$R$76,'прил 1'!$I$79:$R$80,'прил 1'!$I$83:$R$94
Name п1чистВсеТекст: 'прил 1'!$F$8:$R$14,'прил 1'!$N$16:$R$18
Name п1чистТек: 'прил 1'!$I$24,'прил 1'!$I$24:$M$25,'прил 1'!$I$28:$M$35,'прил 1'!$I$40:$M$52,'прил 1'!$I$61:$M$68,'прил 1'!$I$71:$M$76,'прил 1'!$I$79:$M$80,'прил 1'!$I$83:$M$94
Name п2: 'прил 2'!$C$3
Name п3чистВсеДанные: #REF!,#REF!,#REF!,#REF!,#REF!,#REF!
Name п3чистТек: #REF!,#REF!
Name п4чистВсеДанные: #REF!,#REF!,#REF!,#REF!,#REF!,#REF!,#REF!,#REF!
Name п4чистТек: #REF!,#REF!,#REF!,#REF!,#REF!,#REF!,#REF!,#REF!
Name п5чистВсеДанные: #REF!,#REF!,#REF!,#REF!
Name п5чистТек: #REF!,#REF!,#REF!,#REF!
Name Приложение: Приложение!$A$1:$D$75
Name тест1: 'прил 1'!$G$6

Sheet прил 1
I3: Приложение 1 к Национальному стандарту бухгалтерского учета и отчетности «Индивидуальная бухгалтерская отчетность» 12.12.2016 № 104 | W3: Заполнение форм начинается с указания периода, за который оформляется отчетность. Для этого, в ячейку слева, окрашенную в желтый цвет, введите дату начала отчетного периода, за который заполняется баланс.
M4: Форма
C5: БУХГАЛТЕРСКИЙ БАЛАНС | U5: 42370
F6: на | G6: =DATE(YEAR(U6),MONTH(U6),DAY(U6)) -> 42735 | U6: 42735 | W6: В ячейку слева, окрашенную в бледно-зеленый цвет, введите дату окончания отчетного периода, за который заполняется баланс.
C8: Организация | F8: Открытое акционерное общество "Жлобинская швейная фабрика" | U8: =DAY(U5) -> 1 | V8: =DAY(U6) -> 31
C9: Учетный номер плательщика | F9: 400075743 | U9: =MONTH(U5) -> 1 | V9: =MONTH(U6) -> 12 | W9: =IF(U9=1,"январь",IF(U9=2,"февраль",IF(U9=3,"март",IF(U9=4,"апрель",IF(U9=5,"май",IF(U9=6,"июнь",IF(U9=7,"июль",W10))))))) -> январь | X9: =IF(V9=1,"январь",IF(V9=2,"февраль",IF(V9=3,"март",IF(V9=4,"апрель",IF(V9=5,"май",IF(V9=6,"июнь",IF(V9=7,"июль",X10))))))) -> декабрь
C10: Вид экономической деятельности | F10: 14130 | U10: =YEAR(U5) -> 2016 | V10: =YEAR(U6) -> 2016 | W10: =IF(U9=8,"август",IF(U9=9,"сентябрь",IF(U9=10,"октябрь",IF(U9=11,"ноябрь",IF(U9=12,"декабрь",0))))) -> 0 | X10: =IF(V9=8,"август",IF(V9=9,"сентябрь",IF(V9=10,"октябрь",IF(V9=11,"ноябрь",IF(V9=12,"декабрь",0))))) -> декабрь
C11: Организационно-правовая форма | F11: Частная
C12: Орган управления
C13: Единица измерения | F13: тыс. рублей
C14: Адрес | F14: 247210 г. Жлобин, ул. Петровского, 17
I16: Дата утверждения | N16: 42825
I17: Дата отправки
I18: Дата принятия
C20: Активы | H20: Код строки | I20: На | J20: =U6 -> 42735 | N20: На | O20: =DATE(YEAR(U5),MONTH(0),DAY(0)) -> 42369
I21: =U6 -> 42735
C22: 1 | H22: 2 | I22: 3 | N22: 4
C23: I. ДОЛГОСРОЧНЫЕ АКТИВЫ
C24: Основные средства | H24: 110 | I24: 802 | N24: 775 | U24: 01 ,02
C25: Нематериальные активы | H25: 120 | I25: 5 | N25: 4 | U25: 04, 05
C26: Доходные вложения в материальные активы | H26: 130 | I26: =SUM(I28:M30) -> 0 | N26: =SUM(N28:R30) -> 0 | U26: 03, 02
C27: в том числе:
C28: инвестиционная недвижимость | H28: 131 | I28: 0 | N28: 0
C29: предметы финансовой аренды (лизинга) | H29: 132 | I29: 0 | N29: 0
C30: прочие доходные вложения в материальные активы | H30: 133 | I30: 0 | N30: 0
C31: Вложения в долгосрочные активы | H31: 140 | I31: 0 | N31: 1 | U31: 08, 07
C32: Долгосрочные финансовые вложения | H32: 150 | I32: 0 | N32: 0 | U32: 06
C33: Отложенные налоговые активы | H33: 160 | I33: 0 | N33: 0 | U33: 09
C34: Долгосрочная дебиторская задолженность | H34: 170 | I34: 0 | N34: 0 | U34: 60, 62, 76 | V34: 63
C35: Прочие долгосрочные активы | H35: 180 | I35: 0 | N35: 0 | U35: 97
C36: ИТОГО по разделу I | H36: 190 | I36: =SUM(I24:M26,I31:M35) -> 807 | N36: =SUM(N24:R26,N31:R35) -> 780
C37: II. КРАТКОСРОЧНЫЕ АКТИВЫ
C38: Запасы | H38: 210 | I38: =SUM(I40:M45) -> 517 | N38: =SUM(N40:R45) -> 405
C39: в том числе:
C40: материалы | H40: 211 | I40: 141 | N40: 105 | U40: 10, 15, 16
C41: животные на выращивании и откорме | H41: 212 | I41: 0 | N41: 0 | U41: 11
C42: незавершенное производство | H42: 213 | I42: 12 | N42: 12 | U42: 20, 21, 23, 29
C43: готовая продукция и товары | H43: 214 | I43: 364 | N43: 288 | U43: 43, 41, 44 | V43: 42
C44: товары отгруженные | H44: 215 | I44: 0 | N44: 0 | U44: 45
C45: прочие запасы | H45: 216 | I45: 0 | N45: 0
...

Sheet прил 2
K3: Приложение 2 к Национальному стандарту бухгалтерского учета и отчетности «Индивидуальная бухгалтерская отчетность» 12.12.2016 № 104
Q4: Форма
C5: ОТЧЕТ о прибылях и убытках
E6: за | F6: ='прил 1'!W9 -> январь | G6: - | H6: ='прил 1'!X9 -> декабрь | J6: ='прил 1'!I21 -> 42735
C8: Организация | F8: =IF('прил 1'!F8=0," ",'прил 1'!F8) -> Открытое акционерное общество "Жлобинская швейная фабрика"
C9: Учетный номер плательщика | F9: =IF('прил 1'!F9=0," ",'прил 1'!F9) -> 400075743
C10: Вид экономической деятельности | F10: =IF('прил 1'!F10=0," ",'прил 1'!F10) -> 14130
C11: Организационно-правовая форма | F11: =IF('прил 1'!F11=0," ",'прил 1'!F11) -> Частная
C12: Орган управления | F12: =IF('прил 1'!F12=0," ",'прил 1'!F12)
C13: Единица измерения | F13: =IF('прил 1'!F13=0," ",'прил 1'!F13) -> тыс. рублей
C14: Адрес | F14: =IF('прил 1'!F14=0," ",'прил 1'!F14) -> 247210 г. Жлобин, ул. Петровского, 17
C16: Наименование показателей | I16: Код строки | J16: За | K16: =F6 -> январь | M16: - | N16: =H6 -> декабрь | O16: За | P16: =F6 -> январь | R16: - | S16: =H6 -> декабрь
J17: =J6 -> 42735 | O17: =DATE(YEAR(J17),MONTH(0),DAY(0)) -> 42369
C18: 1 | I18: 2 | J18: 3 | O18: 4
C19: Выручка от реализации продукции, товаров, работ, услуг | I19: 010 | J19: 2847 | O19: 2459 | V19: 90 (90-1, 90-2, 90-3)
C20: Себестоимость реализованной продукции, товаров, работ, услуг | I20: 020 | J20: 2113 | O20: 1924 | V20: 90 (90-4)
C21: Валовая прибыль | I21: 030 | J21: =J19-J20 -> 734 | O21: =O19-O20 -> 535
C22: Управленческие расходы | I22: 040 | J22: 307 | O22: 252 | V22: 90 (90-5)
C23: Расходы на реализацию | I23: 050 | J23: 219 | O23: 158 | V23: 90 (90-6)
C24: Прибыль (убыток) от реализации продукции, товаров, работ, услуг | I24: 060 | J24: =J21-J22-J23 -> 208 | O24: =O21-O22-O23 -> 125
C25: Прочие доходы по текущей деятельности | I25: 070 | J25: 545 | O25: 298 | V25: 90 (90-7, 90-8, 90-9)
C26: Прочие расходы по текущей деятельности | I26: 080 | J26: 583 | O26: 329 | V26: 90 (90-10)
C27: Прибыль (убыток) от текущей деятельности | I27: 090 | J27: =J24+J25-J26 -> 170 | O27: =O24+O25-O26 -> 94
C28: Доходы по инвестиционной деятельности | I28: 100 | J28: =SUM(J30:N33) -> 1 | O28: =SUM(O30:S33) -> 0 | V28: 91 (91-1, 91-2, 91-3)
C29: в том числе:
C30: доходы от выбытия основных средств, нематериальных активов и других долгосрочных активов | I30: 101 | J30: 0 | O30: 0
C31: доходы от участия в уставных капиталах других организаций | I31: 102 | J31: 0 | O31: 0
C32: проценты к получению | I32: 103 | J32: 0 | O32: 0
C33: прочие доходы по инвестиционной деятельности | I33: 104 | J33: 1 | O33: 0
C34: Расходы по инвестиционной деятельности | I34: 110 | J34: =SUM(J36:N37) -> 2 | O34: =SUM(O36:S37) -> 1 | V34: 91 (91-4)
C35: в том числе:
C36: расходы от выбытия основных средств, нематериальных активов и других долгосрочных активов | I36: 111 | J36: 2 | O36: 1
C37: прочие расходы по инвестиционной деятельности | I37: 112 | J37: 0 | O37: 0
C38: Доходы по финансовой деятельности | I38: 120 | J38: =SUM(J40:N41) -> 26 | O38: =SUM(O40:S41) -> 2 | V38: 91 (91-1, 91-2, 91-3)
C39: в том числе:
C40: курсовые разницы от пересчета активов и обязательств | I40: 121 | J40: 26 | O40: 2
C41: прочие доходы по финансовой деятельности | I41: 122 | J41: 0 | O41: 0
C42: Расходы по финансовой деятельности | I42: 130 | J42: =SUM(J44:N46) -> 131 | O42: =SUM(O44:S46) -> 87 | V42: 91 (91-4)
C43: в том числе:
C44: проценты к уплате | I44: 131 | J44: 88 | O44: 73
...

Sheet Приложение
A1: =ROW() -> 1 | B1: А. Сельское, лесное и рыбное хозяйство, 011-017 | C1: 1.5 | D1: 0.2
A2: =ROW() -> 2 | B2: А. Сельское, лесное и рыбное хозяйство, 021-024 | C2: 1.5 | D2: 0.2
A3: =ROW() -> 3 | B3: А. Сельское, лесное и рыбное хозяйство, 031-032 | C3: 1.5 | D3: 0.2
A4: =ROW() -> 4 | B4: В. Горнодобывающая промышленность, 051-052, 061-062, 071-072, 081, 089, 091 | C4: 1.7 | D4: 0.3
A5: =ROW() -> 5 | B5: В. Горнодобывающая промышленность, 099 | C5: 1.2 | D5: 0.15
A6: =ROW() -> 6 | B6: С. Обрабатывающая промышленность, 101, 104-109 | C6: 1.3 | D6: 0.2
A7: =ROW() -> 7 | B7: С. Обрабатывающая промышленность, 102-103 | C7: 1.7 | D7: 0.3
A8: =ROW() -> 8 | B8: С. Обрабатывающая промышленность, 110, 120 | C8: 1.7 | D8: 0.3
A9: =ROW() -> 9 | B9: С. Обрабатывающая промышленность, 131-133, 139, 141-143, 151-152 | C9: 1.3 | D9: 0.2
A10: =ROW() -> 10 | B10: С. Обрабатывающая промышленность, 161-162, 171-172, 181-182 | C10: 1.3 | D10: 0.2
A11: =ROW() -> 11 | B11: С. Обрабатывающая промышленность, 191 | C11: 1.4 | D11: 0.2
A12: =ROW() -> 12 | B12: С. Обрабатывающая промышленность, 192 | C12: 1.7 | D12: 0.3
... A75: =ROW() -> 75 | B75: 18. Прочие виды экономической деятельности | C75: 1.5 | D75: 0.2
